BEGIN:VCALENDAR
VERSION:2.0
PRODID:LFV Website-Kit
METHOD:PUBLISH
BEGIN:VEVENT
UID:lfv-f9f27b9c-b7f2-4e9f-a554-91696625e01c
LOCATION:
SUMMARY:125 Jähriges Gründungsfest FF St.-Helena
DESCRIPTION:Termin Link: https://www.kfv-neumarkt.de/aktuelles-termine/termine/125-jahriges-grundungsfest-ff-st-helena/
URL:https://www.kfv-neumarkt.de/aktuelles-termine/termine/125-jahriges-grundungsfest-ff-st-helena/
CLASS:PRIVATE
DTSTART;TZID=Europe/Berlin:20310516T000000
DTEND;TZID=Europe/Berlin:20310518T235900
DTSTAMP:20260420T225025Z
END:VEVENT
END:VCALENDAR