BEGIN:VCALENDAR
VERSION:2.0
PRODID:LFV Website-Kit
METHOD:PUBLISH
BEGIN:VEVENT
UID:lfv-5f435179-289b-4955-965a-6efd47aa09f8
LOCATION:
SUMMARY:Jugendfeuerwehr: Kreisentscheid im Bundeswettbewerb
DESCRIPTION:Termin Link: https://www.kfv-neumarkt.de/aktuelles-termine/termine/jugendfeuerwehr-kreisentscheid-im-bundeswettbewerb/
URL:https://www.kfv-neumarkt.de/aktuelles-termine/termine/jugendfeuerwehr-kreisentscheid-im-bundeswettbewerb/
CLASS:PRIVATE
DTSTART;TZID=Europe/Berlin:20260509T080000
DTEND;TZID=Europe/Berlin:20260509T120000
DTSTAMP:20260420T162658Z
END:VEVENT
END:VCALENDAR