BEGIN:VCALENDAR
VERSION:2.0
PRODID:LFV Website-Kit
METHOD:PUBLISH
BEGIN:VEVENT
UID:lfv-c9798852-9721-47a9-8d4c-0c41ca3c6906
LOCATION:
SUMMARY:Jugendfeuerwehr: Landesentscheid im Bundeswettbewerb
DESCRIPTION:Termin Link: https://www.kfv-neumarkt.de/aktuelles-termine/termine/jugendfeuerwehr-landesentscheid-im-bundeswettbewerb/
URL:https://www.kfv-neumarkt.de/aktuelles-termine/termine/jugendfeuerwehr-landesentscheid-im-bundeswettbewerb/
CLASS:PRIVATE
DTSTART;TZID=Europe/Berlin:20260704T080000
DTEND;TZID=Europe/Berlin:20260704T120000
DTSTAMP:20260420T160905Z
END:VEVENT
END:VCALENDAR